BEGIN:VCALENDAR
VERSION:2.0
PRODID:-//eventon.com NONSGML v1.0//EN
CALSCALE:GREGORIAN
METHOD:PUBLISH
BEGIN:VEVENT
UID:69eb895402432
DTSTAMP:20260424T151636Z
DTSTART:20260515T123000Z
DTEND:20260515T140000Z
LOCATION:Freyung\,  Volksmusikakademie in Bayern Langgasse 7\,  94078 Freyung\,  Deutschland\,  Freyung 94078\,  Freyung 94078\,  Deutschland
SUMMARY:Freyung\,  Treffpunkt »ErlebniSTanz« für Senioren-Einsteiger
DESCRIPTION:Musik und Rhythmus wecken unsere Lebensgeister und animieren un
 s zum Tanzen. Wir laden alle Seniorinnen und Senioren zum Mittanzen ein\,  
 denn Tanzen wirkt positiv auf Herz\,  Kreislauf\,  Beweglichkleit\,  Koordi
 nation und das Gedächtnis\,  fördert und bewahrt eine gute Körperhaltung
  und vermittelt Lebensfreude pur. Die Freude an der Bewegung\,  die Begegnu
 ng mit[..]\nhttps://volksmusikkalender.de/events/freyung-treffpunkt-erlebni
 stanz-fuer-senioren-einsteiger/
URL:https://volksmusikkalender.de/events/freyung-treffpunkt-erlebnistanz-fuer-senioren-einsteiger/
END:VEVENT
END:VCALENDAR