BEGIN:VCALENDAR
VERSION:2.0
PRODID:-//eventon.com NONSGML v1.0//EN
CALSCALE:GREGORIAN
METHOD:PUBLISH
BEGIN:VEVENT
UID:69eb89781efc2
DTSTAMP:20260424T151712Z
DTSTART:20261121T090000Z
DTEND:20261121T140000Z
LOCATION:Freyung\,  Volksmusikakademie in Bayern Langgasse 7\,  94078 Freyung\,  Deutschland\,  Freyung 94078\,  Freyung 94078\,  Deutschland
SUMMARY:Freyung\,  »Ukulele-Aufbaukurs«
DESCRIPTION:Die Ukulele aus Hawaii ist das perfekte Instrument für die Akk
 ordbegleitung – auch in Bayern. Mit seinen vier Saiten und den handlichen
  Maßen erfreut sich die Ukulele immer größerer Beliebtheit\,  nicht zule
 tzt\,  weil sie wesentlich schneller zu beherrschen ist als die sechssaitig
 e Gitarre. Allen\,  die schon etwas Sicherheit auf dem[..]\nhttps://volksmu
 sikkalender.de/events/freyung-ukulele-aufbaukurs/
URL:https://volksmusikkalender.de/events/freyung-ukulele-aufbaukurs/
END:VEVENT
END:VCALENDAR