BEGIN:VCALENDAR
VERSION:2.0
PRODID:-//eventon.com NONSGML v1.0//EN
CALSCALE:GREGORIAN
METHOD:PUBLISH
BEGIN:VEVENT
UID:69eb89b9c46fb
DTSTAMP:20260424T151817Z
DTSTART:20261114T080000Z
DTEND:20261114T140000Z
LOCATION:Freyung\,  Volksmusikakademie in Bayern Langgasse 7\,  94078 Freyung\,  Deutschland\,  Freyung 94078\,  Freyung 94078\,  Deutschland
SUMMARY:Freyung\,  Bassln in der Volksmusik
DESCRIPTION:»Geh spui a weng dazua!« – Diesen Satz hören Blasmusikante
 n oft\,  wenn der Harmonikaspieler im Wirtshaus loslegt. Da kann man auch a
 ls erfahrener Bläser leicht ins Schleudern geraten\,  denn Noten gibt’s 
 keine. »Wie fange ich an? Welche Töne passen dazu und warum?« Ob Tuba\, 
  Bariton\,  Tenorhorn\,  Basstrompete oder Posaune –[..]\nhttps://volksmu
 sikkalender.de/events/freyung-bassln-in-der-volksmusik/
URL:https://volksmusikkalender.de/events/freyung-bassln-in-der-volksmusik/
END:VEVENT
END:VCALENDAR