BEGIN:VCALENDAR
VERSION:2.0
PRODID:-//eventon.com NONSGML v1.0//EN
CALSCALE:GREGORIAN
METHOD:PUBLISH
BEGIN:VEVENT
UID:69eb894c34f87
DTSTAMP:20260424T151628Z
DTSTART:20261031T090000Z
DTEND:20261031T140000Z
LOCATION:Freyung\,  Volksmusikakademie in Bayern Langgasse 7\,  94078 Freyung\,  Deutschland\,  Freyung 94078\,  Freyung 94078\,  Deutschland
SUMMARY:Freyung\,  Â»Ukulele fÃ¼r FortgeschritteneÂ«
DESCRIPTION:Ukulele heiÃŸt Ã¼bersetzt Â»HÃ¼pfender FlohÂ«. So haben die Haw
 aiianer die kleine Gitarre genannt\,  die der portugiesische Einwanderer Jo
 Ã£o Fernandez 1879 nach Hawaii mitbrachte. Inzwischen ist das Instrument lÃ
 ¤ngst in Europa zurÃ¼ck und hat Kultstatus â€“ auch in Bayern. FÃ¼r alle\, 
  die schon ein bisserl was auf dem Instrument kÃ¶nnen oder[..]\nhttps://vol
 ksmusikkalender.de/events/freyung-ukulele-fuer-fortgeschrittene/
URL:https://volksmusikkalender.de/events/freyung-ukulele-fuer-fortgeschrittene/
END:VEVENT
END:VCALENDAR