BEGIN:VCALENDAR
VERSION:2.0
PRODID:-//eventon.com NONSGML v1.0//EN
CALSCALE:GREGORIAN
METHOD:PUBLISH
BEGIN:VEVENT
UID:69eb89afb3b79
DTSTAMP:20260424T151807Z
DTSTART:20261030T153000Z
DTEND:20261101T120000Z
LOCATION:Freyung\,  Volksmusikakademie in Bayern Langgasse 7\,  94078 Freyung\,  Deutschland\,  Freyung 94078\,  Freyung 94078\,  Deutschland
SUMMARY:Freyung\,  SAITENSPRÜNGE
DESCRIPTION:Drei Tage und zwei Nächte rund ums Hackbrett für alle Altersg
 ruppen und Spielniveaus – vom Anfänger bis zum Fortgeschrittenen. Unter 
 Anleitung der hochkarätigen Referenten werden je nach Gusto des einzelnen 
 Teilnehmers Stücke aus verschiedenen Stilrichtungen (Volksmusik\,  Alte Mu
 sik\,  Klassik\,  Filmmusik\,  Rock/Pop) einstudiert\,  dazu gibt es indivi
 duelle Tipps und Tricks\,  um[..]\nhttps://volksmusikkalender.de/events/fre
 yung-saitenspruenge/
URL:https://volksmusikkalender.de/events/freyung-saitenspruenge/
END:VEVENT
END:VCALENDAR