BEGIN:VCALENDAR
VERSION:2.0
PRODID:-//eventon.com NONSGML v1.0//EN
CALSCALE:GREGORIAN
METHOD:PUBLISH
BEGIN:VEVENT
UID:69eb89bbcb096
DTSTAMP:20260424T151819Z
DTSTART:20260803T130000Z
DTEND:20260806T110000Z
LOCATION:Freyung\,  Volksmusikakademie in Bayern Langgasse 7\,  94078 Freyung\,  Deutschland\,  Freyung 94078\,  Freyung 94078\,  Deutschland
SUMMARY:Freyung\,  »Bavarian Band Camp 2026«
DESCRIPTION:Pop\,  Rock und Jazz haben längst auch an der Freyunger »Volk
 smusikakademie in Bayern« ihren festen Platz. Zum Start der Sommerferien l
 ädt das 4-tägige »Bavarian Band Camp« Musikerinnen und Musiker aller Al
 tersgruppen ein – vom ambitionierten Nachwuchstalent über Hobbymusiker b
 is hin zu bereits eingespielten oder neuen Bands. Egal ob Solo unterwegs[..
 ]\nhttps://volksmusikkalender.de/events/freyung-bavarian-band-camp-2026/
URL:https://volksmusikkalender.de/events/freyung-bavarian-band-camp-2026/
END:VEVENT
END:VCALENDAR