BEGIN:VCALENDAR
VERSION:2.0
PRODID:-//eventon.com NONSGML v1.0//EN
CALSCALE:GREGORIAN
METHOD:PUBLISH
BEGIN:VEVENT
UID:69eb89bb91045
DTSTAMP:20260424T151819Z
DTSTART:20260704T080000Z
DTEND:20260704T130000Z
LOCATION:Freyung\,  Volksmusikakademie in Bayern Langgasse 7\,  94078 Freyung\,  Deutschland\,  Freyung 94078\,  Freyung 94078\,  Deutschland
SUMMARY:Freyung\,  »Ukulele für Einsteiger«
DESCRIPTION:Das kleine Kultinstrument der letzten Jahre macht auch Anfänge
 rn schon nach kurzer Zeit riesigen Spaß. Für den Kurs mit Querbeet-Autor 
 und Gitarrist Harald Dobler verwenden wir die gebräuchliche Sopran-Ukulele
  mit der Stimmung G-C-E-A. Schnell entlocken wir dem Instrument unter profe
 ssioneller Anleitung in der Gruppe die ersten Akkorde und Schlagmuster und[
 ..]\nhttps://volksmusikkalender.de/events/freyung-ukulele-fuer-einsteiger/
URL:https://volksmusikkalender.de/events/freyung-ukulele-fuer-einsteiger/
END:VEVENT
END:VCALENDAR