BEGIN:VCALENDAR
VERSION:2.0
PRODID:-//eventon.com NONSGML v1.0//EN
CALSCALE:GREGORIAN
METHOD:PUBLISH
BEGIN:VEVENT
UID:69eb89589540a
DTSTAMP:20260424T151640Z
DTSTART:20260703T140000Z
DTEND:20260705T120000Z
LOCATION:Freyung\,  Volksmusikakademie in Bayern Langgasse 7\,  94078 Freyung\,  Deutschland\,  Freyung 94078\,  Freyung 94078\,  Deutschland
SUMMARY:Freyung\,  »Schrift & Musik im Einklang 2.0«
DESCRIPTION:Notenzeilen sind nicht nur für Noten da &#8230; und eine Noten
 zeichenfeder kann mehr als fünf gerade Linien! Musik und Kalligraphie habe
 n mehr gemeinsam als man meinen könnte. Harmonie\,  Melodie und Rhythmus\,
   Takt\,  Tempo\,  Satzweise\,  Klangfarbe\,  Form &#8230; das sind grundle
 gende musikalische Gestaltungsmittel\,  die der Komponist zur Verfügung ha
 t. Die selben[..]\nhttps://volksmusikkalender.de/events/freyung-schrift-mus
 ik-im-einklang-2-0/
URL:https://volksmusikkalender.de/events/freyung-schrift-musik-im-einklang-2-0/
END:VEVENT
END:VCALENDAR