BEGIN:VCALENDAR
VERSION:2.0
PRODID:-//eventon.com NONSGML v1.0//EN
CALSCALE:GREGORIAN
METHOD:PUBLISH
BEGIN:VEVENT
UID:69eb89dfb15c6
DTSTAMP:20260424T151855Z
DTSTART:20260608T170000Z
DTEND:20260608T183000Z
LOCATION:Freyung\,  Volksmusikakademie in Bayern Langgasse 7\,  94078 Freyung\,  Deutschland\,  Freyung 94078\,  Freyung 94078\,  Deutschland
SUMMARY:Freyung\,  »Impro-Orchester«
DESCRIPTION:jeweils Montag\,  8. Juni / 15. Juni / 22. Juni / 29. Juni / 6.
  Juli 2026 Bereit für eine neue musikalische Erfahrung? Die Stadt Freyung 
 ruht sich nicht auf ihrem Titel als bundesweiter »Landmusikort 2025« aus 
 – nein\,  wir wollen gemeinsam mit Euch neue musikalische Wege gehen! In 
 den[..]\nhttps://volksmusikkalender.de/events/freyung-impro-orchester/
URL:https://volksmusikkalender.de/events/freyung-impro-orchester/
END:VEVENT
END:VCALENDAR