BEGIN:VCALENDAR
VERSION:2.0
PRODID:-//eventon.com NONSGML v1.0//EN
CALSCALE:GREGORIAN
METHOD:PUBLISH
BEGIN:VEVENT
UID:69eb897674fe5
DTSTAMP:20260424T151710Z
DTSTART:20260516T080000Z
DTEND:20260516T130000Z
LOCATION:Freyung\,  Volksmusikakademie in Bayern Langgasse 7\,  94078 Freyung\,  Deutschland\,  Freyung 94078\,  Freyung 94078\,  Deutschland
SUMMARY:Freyung\,  »Akustik-Gitarre unplugged«
DESCRIPTION:Die Gitarre kennt keine stilistischen Grenzen: Folk\,  Blues\, 
  Pop\,  Jazz\,  Latin\,  Rock\,  Klassik und natürlich auch Volksmusik kö
 nnen nit dem Instrument rhythmisch-harmonisch unterlegt werden. Bei diesem 
 eintägigen Gitarrenkurs mit Querbeet-Autor Harlad Dobler werden echte Hits
  aufgelegt und in Gemeinschaft eingeübt (z. B. »Losing my Religion« (R.E
 .M.)\,  »This ist the life«[..]\nhttps://volksmusikkalender.de/events/fre
 yung-akustik-gitarre-unplugged/
URL:https://volksmusikkalender.de/events/freyung-akustik-gitarre-unplugged/
END:VEVENT
END:VCALENDAR