BEGIN:VCALENDAR
VERSION:2.0
PRODID:-//eventon.com NONSGML v1.0//EN
CALSCALE:GREGORIAN
METHOD:PUBLISH
BEGIN:VEVENT
UID:69eb89ba7728e
DTSTAMP:20260424T151818Z
DTSTART:20260622T170000Z
DTEND:20260622T215900Z
LOCATION:München\,  Schloß Nymphenburg Schloß Nymphenburg 1\,  80638 München\,  Deutschland
SUMMARY:München\,  Mitsommernachtskonzert im Schloss Nymphenburg
DESCRIPTION:Der Münchner Kreis für Volksmusik\,  Lied und Tanz e. V. vera
 nstaltet ein klangvolles Mitsommernachtskonzert. In diesem besonderen Konze
 rt zeigen die Lehrerinnen und Lehrer der Wastl Fanderl Schule I Münchner S
 chule für Bairische Musik ihre Leidenschaft für die Musik und präsentier
 en eine Auswahl ihrer schönsten Stücke. Die Musiker*innen widmen sich dab
 ei[..]\nhttps://volksmusikkalender.de/events/muenchen-mitsommernachtskonzer
 t-im-schloss-nymphenburg/
URL:https://volksmusikkalender.de/events/muenchen-mitsommernachtskonzert-im-schloss-nymphenburg/
END:VEVENT
END:VCALENDAR