BEGIN:VCALENDAR
VERSION:2.0
PRODID:-//eventon.com NONSGML v1.0//EN
CALSCALE:GREGORIAN
METHOD:PUBLISH
BEGIN:VEVENT
UID:69eb897654baf
DTSTAMP:20260424T151710Z
DTSTART:20260620T173000Z
DTEND:20260620T213000Z
LOCATION:Wolnzach\,  Volksfesthalle Hopfenstraße 2a\,  85283 Wolnzach\,  Wolnzach\,  BY 85283\,  Deutschland
SUMMARY:Wolnzach\,  Volkstanz
DESCRIPTION:Die Volkstanzfreunde des Theaterbrettl Wolnzach e.V. veranstalt
 en Ihren alljährlichen Volkstanz und laden sehr herzlich alle Volksmusik- 
 und Volkstanzbegeisterten ein. Der Volkstanz findet am Samstag 20. Juni in 
 der birkengeschmückten Volksfesthalle in Wolnzach\,  Hopfenstr. 2a statt. 
 Beginn ist 19.30 Uhr. Es spielen die Ochsentreiber aus Neustadt Willkommen 
 sind alle Volkstänzer und[..]\nhttps://volksmusikkalender.de/events/wolnza
 ch-volkstanz/
URL:https://volksmusikkalender.de/events/wolnzach-volkstanz/
END:VEVENT
END:VCALENDAR