BEGIN:VCALENDAR
VERSION:2.0
PRODID:-//eventon.com NONSGML v1.0//EN
CALSCALE:GREGORIAN
METHOD:PUBLISH
BEGIN:VEVENT
UID:69e5ee21c01eb
DTSTAMP:20260420T091305Z
DTSTART:20260604T150000Z
DTEND:20260604T215900Z
LOCATION:
SUMMARY:Binswangen\,  Wirtshausmusikanten bringen Tradition und Moderne
DESCRIPTION:Am Donnerstag\,  4. Juni 2026\,  verwandelt sich der Dorfplatz 
 Binswangen in einen Ort gelebter Volksmusik: Die Wirtshausmusikanten laden 
 zu einem musikalischen Abend voller Instrumentalmusik\,  Gesang und Tanz ei
 n. Das Festzelt wird zum Wirtshaus und Tanzsaal. Dabei stehen gleich mehrer
 e Jubiläen im Mittelpunkt: 175 Jahre Blasmusik in Binswangen\,  35 Jahre H
 OIGARTA-Muse[..]\nhttps://volksmusikkalender.de/events/binswangen-wirtshaus
 musikanten-bringen-tradition-und-moderne/
URL:https://volksmusikkalender.de/events/binswangen-wirtshausmusikanten-bringen-tradition-und-moderne/
END:VEVENT
END:VCALENDAR