BEGIN:VCALENDAR
VERSION:2.0
PRODID:-//eventon.com NONSGML v1.0//EN
CALSCALE:GREGORIAN
METHOD:PUBLISH
BEGIN:VEVENT
UID:69eb8977a0c5c
DTSTAMP:20260424T151711Z
DTSTART:20260618
DTEND:20260619
LOCATION:MÃ¼nchen\,  Prinzregent-Garten Prinzregent-Garten\,  Benedikter Str. 35\,  81241 MÃ¼nchen\,  MÃ¼nchen 81241\,  MÃ¼nchen 81241
SUMMARY:MÃ¼nchen\,  Kostenloser Volkstanzkurse fÃ¼r AnfÃ¤nger.
DESCRIPTION:Volkstanzkurs fÃ¼r AnfÃ¤nger in MÃ¼nchen Obermenzing. Wir erler
 nen einfache VolkstÃ¤nze ua. Boarischen\,  Hiatamadl und einfache WechseltÃ
 ¤nze. Der Kurs findet in Kleiner Gruppe statt\,  daher begrenzte Teilnehmer
 zahl. Genaue Details bitte telefonisch erfragen unter 089 66550826 oder 015
 7 31426458. Anmeldungen ab sofort mÃ¶glich und empfehlenswert.&nbsp; Dringe
 nd mehrere erfahrene VolkstÃ¤nzer (m) und VortÃ¤nzer[..]\nhttps://volksmusi
 kkalender.de/events/muenchen-kostenloser-volkstanzkurse-fuer-anfaenger-2/va
 r/ri-1.l-L1
URL:https://volksmusikkalender.de/events/muenchen-kostenloser-volkstanzkurse-fuer-anfaenger-2/var/ri-1.l-L1
END:VEVENT
END:VCALENDAR