BEGIN:VCALENDAR
VERSION:2.0
PRODID:-//eventon.com NONSGML v1.0//EN
CALSCALE:GREGORIAN
METHOD:PUBLISH
BEGIN:VEVENT
UID:69e5ee45380a4
DTSTAMP:20260420T091341Z
DTSTART:20260612
DTEND:20260613
LOCATION:München\,  Prinzregent-Garten Prinzregent-Garten\,  Benedikter Str. 35\,  81241 München\,  München 81241\,  München 81241
SUMMARY:München\,  Kostenloser Volkstanzkurse für Anfänger.
DESCRIPTION:Kostenloser Volkstanzkurs für Anfänger in München. Genaue De
 tails bitte telefonisch erfragen unter 089 66550826 oder 0157 31426458. Jet
 zt bereits Anmeldungen möglich. Begrenzte Teilnehmerzahl! Dringend mehrere
  erfahrene Volkstänzer (m) und Vortänzer gesucht.\nhttps://volksmusikkale
 nder.de/events/muenchen-kostenloser-volkstanzkurse-fuer-anfaenger-2/var/ri-
 1.l-L1
URL:https://volksmusikkalender.de/events/muenchen-kostenloser-volkstanzkurse-fuer-anfaenger-2/var/ri-1.l-L1
END:VEVENT
END:VCALENDAR