BEGIN:VCALENDAR
VERSION:2.0
PRODID:-//eventon.com NONSGML v1.0//EN
CALSCALE:GREGORIAN
METHOD:PUBLISH
BEGIN:VEVENT
UID:69e5ee52466f3
DTSTAMP:20260420T091354Z
DTSTART:20261231T190000Z
DTEND:20270101T000000Z
LOCATION:Schwandorf-Klardorf\,  Turmrestaurant Obermeier Klardorfer Straße 30\,  92421 Schwandorf\,  Deutschland
SUMMARY:Schwandorf\,  Silvestervolkstanz
DESCRIPTION:Schwandorf\,  Silvestervolkstanz\nhttps://volksmusikkalender.de
 /events/schwandorf-silvestervolkstanz/
URL:https://volksmusikkalender.de/events/schwandorf-silvestervolkstanz/
END:VEVENT
END:VCALENDAR