BEGIN:VCALENDAR
VERSION:2.0
PRODID:-//eventon.com NONSGML v1.0//EN
CALSCALE:GREGORIAN
METHOD:PUBLISH
BEGIN:VEVENT
UID:69e5ece179140
DTSTAMP:20260420T090745Z
DTSTART:20260821T170000Z
DTEND:20260821T210000Z
LOCATION:MÃ¼nchen\,  Fraunhofer: "Kulisse" im Hinterhof FraunhoferstraÃŸe 9\,  80469 MÃ¼nchen\,  Deutschland\,  MÃ¼nchen\,  BY 80469\,  Deutschland
SUMMARY:MÃ¼nchen\,  â€žSELBER SINGA im Fraunhoferâ€œ
DESCRIPTION:Liebe SÃ¤ngerinnen und SÃ¤nger\,  liebe Sing-Neugierige\,  zu O
 stern Neuschnee in den Bergen\,  danach fast sommerwarme Tage. Ãœberall grÃ
 ¼nt es und blÃ¼ht. Und immer wieder anders prangt das BlÃ¼tenmeer an Wiese\
 ,  Bach\,  Busch und Baum\,  berÃ¼hrt uns mit unbandiger SchÃ¶nheit und bet
 Ã¶renden DÃ¼ften. Vor dem nahenden Morgen wirft lauter Vogelsang uns[..]\nh
 ttps://volksmusikkalender.de/events/muenchen-selber-singa-im-fraunhofer-mit
 -hermann-geyer/var/ri-4.l-L1
URL:https://volksmusikkalender.de/events/muenchen-selber-singa-im-fraunhofer-mit-hermann-geyer/var/ri-4.l-L1
END:VEVENT
END:VCALENDAR