BEGIN:VCALENDAR
VERSION:2.0
PRODID:-//eventon.com NONSGML v1.0//EN
CALSCALE:GREGORIAN
METHOD:PUBLISH
BEGIN:VEVENT
UID:69eb895a566e0
DTSTAMP:20260424T151642Z
DTSTART:20260620
DTEND:20260621
LOCATION:Aspach (AT)\,  Veranstaltungszentrum Danzer Höhnharter Straße 19\,  A-5252 Aspach\,  Österreich
SUMMARY:Aspach\,  Volkstanzfest
DESCRIPTION:große Tanzfläche Burschen- und Dirndlwahl während des ganzen
  Abends\nhttps://volksmusikkalender.de/events/volkstanzfest/
URL:https://volksmusikkalender.de/events/volkstanzfest/
END:VEVENT
END:VCALENDAR