BEGIN:VCALENDAR
VERSION:2.0
PRODID:-//eventon.com NONSGML v1.0//EN
CALSCALE:GREGORIAN
METHOD:PUBLISH
BEGIN:VEVENT
UID:69eb8922d3216
DTSTAMP:20260424T151546Z
DTSTART:20261007T170000Z
DTEND:20261007T190000Z
LOCATION:Nürnberg\,  Kulturwerkstatt auf AEG Fürther Straße 244d\,  90429 Nürnberg\,  Deutschland
SUMMARY:Nürnberg\,  Fränkisch Musizieren und mehr
DESCRIPTION:Bolga\,  Walzer\,  Hobberer\,  Dreher und weitere Tänze aus Fr
 anken und sonstwoher. Von 19-20:15h üben wir ein paar Musikstücke ein\,  
 die wir danach für die Teilnehmer:innen von „Fränkisch Tanzen“ aufspi
 elen. Vorkenntnisse am Instrument sind von Vorteil. Es ist jedesmal spanne
 nd\,  was für eine Besetzung entsteht. Ihr könnt euch die Noten schon vor
 her hier[..]\nhttps://volksmusikkalender.de/events/nuernberg-fraenkisch-mu
 sizieren-und-mehr/var/ri-5.l-L1
URL:https://volksmusikkalender.de/events/nuernberg-fraenkisch-musizieren-und-mehr/var/ri-5.l-L1
END:VEVENT
END:VCALENDAR