BEGIN:VCALENDAR
VERSION:2.0
PRODID:-//eventon.com NONSGML v1.0//EN
CALSCALE:GREGORIAN
METHOD:PUBLISH
BEGIN:VEVENT
UID:69eb9f8c6af56
DTSTAMP:20260424T165124Z
DTSTART:20260527T130000Z
DTEND:20260529T120000Z
LOCATION:Freyung\,  Volksmusikakademie in Bayern Langgasse 7\,  94078 Freyung\,  Deutschland\,  Freyung 94078\,  Freyung 94078\,  Deutschland
SUMMARY:Freyung\,  »Voixmusi-Camp«
DESCRIPTION:Auch dieses Jahr hast du die Möglichkeit wieder bei diesem gan
 z besonderen Treffen dabei zu sein! Drei Tage lang kannst Du in den Pfingst
 ferien zusammen mit Gleichgesinnten unter professioneller Anleitung musizie
 ren\,  singen und tanzen\,  bevor es am Ende eine kleine Aufführung vor de
 inen Eltern gibt. Das »Voixmusi-Camp« bietet dir die[..]\nhttps://volksmu
 sikkalender.de/events/voixmusi-camp/
URL:https://volksmusikkalender.de/events/voixmusi-camp/
END:VEVENT
END:VCALENDAR